BEGIN:VCALENDAR
VERSION:2.0
PRODID:-//Christian Faith Church - ECPv6.11.2.1//NONSGML v1.0//EN
CALSCALE:GREGORIAN
METHOD:PUBLISH
X-ORIGINAL-URL:https://thecfc.org
X-WR-CALDESC:Events for Christian Faith Church
REFRESH-INTERVAL;VALUE=DURATION:PT1H
X-Robots-Tag:noindex
X-PUBLISHED-TTL:PT1H
BEGIN:VTIMEZONE
TZID:America/New_York
BEGIN:DAYLIGHT
TZOFFSETFROM:-0500
TZOFFSETTO:-0400
TZNAME:EDT
DTSTART:20290311T070000
END:DAYLIGHT
BEGIN:STANDARD
TZOFFSETFROM:-0400
TZOFFSETTO:-0500
TZNAME:EST
DTSTART:20291104T060000
END:STANDARD
END:VTIMEZONE
BEGIN:VEVENT
DTSTART;TZID=America/New_York:20290221T190000
DTEND;TZID=America/New_York:20290221T200000
DTSTAMP:20260421T194013
CREATED:20241218T183511Z
LAST-MODIFIED:20250125T005235Z
UID:10000483-1866394800-1866398400@thecfc.org
SUMMARY:Online Bible Study
DESCRIPTION:join us as we delve into the Word offering a practical perspective! on FACEBOOK LIVE: https://www.facebook.com/christianfaithchurchmi
URL:https://thecfc.org/event/wednesday-evening-bible-study/2029-02-21/
ATTACH;FMTTYPE=image/jpeg:https://thecfc.org/wp-content/uploads/2024/12/cfc-Bible-study.jpg
END:VEVENT
BEGIN:VEVENT
DTSTART;TZID=America/New_York:20290228T190000
DTEND;TZID=America/New_York:20290228T200000
DTSTAMP:20260421T194013
CREATED:20241218T183511Z
LAST-MODIFIED:20250125T005235Z
UID:10000484-1866999600-1867003200@thecfc.org
SUMMARY:Online Bible Study
DESCRIPTION:join us as we delve into the Word offering a practical perspective! on FACEBOOK LIVE: https://www.facebook.com/christianfaithchurchmi
URL:https://thecfc.org/event/wednesday-evening-bible-study/2029-02-28/
ATTACH;FMTTYPE=image/jpeg:https://thecfc.org/wp-content/uploads/2024/12/cfc-Bible-study.jpg
END:VEVENT
BEGIN:VEVENT
DTSTART;TZID=America/New_York:20290307T190000
DTEND;TZID=America/New_York:20290307T200000
DTSTAMP:20260421T194013
CREATED:20241218T183511Z
LAST-MODIFIED:20250125T005235Z
UID:10000485-1867604400-1867608000@thecfc.org
SUMMARY:Online Bible Study
DESCRIPTION:join us as we delve into the Word offering a practical perspective! on FACEBOOK LIVE: https://www.facebook.com/christianfaithchurchmi
URL:https://thecfc.org/event/wednesday-evening-bible-study/2029-03-07/
ATTACH;FMTTYPE=image/jpeg:https://thecfc.org/wp-content/uploads/2024/12/cfc-Bible-study.jpg
END:VEVENT
BEGIN:VEVENT
DTSTART;TZID=America/New_York:20290314T190000
DTEND;TZID=America/New_York:20290314T200000
DTSTAMP:20260421T194013
CREATED:20241218T183511Z
LAST-MODIFIED:20250125T005235Z
UID:10000486-1868209200-1868212800@thecfc.org
SUMMARY:Online Bible Study
DESCRIPTION:join us as we delve into the Word offering a practical perspective! on FACEBOOK LIVE: https://www.facebook.com/christianfaithchurchmi
URL:https://thecfc.org/event/wednesday-evening-bible-study/2029-03-14/
ATTACH;FMTTYPE=image/jpeg:https://thecfc.org/wp-content/uploads/2024/12/cfc-Bible-study.jpg
END:VEVENT
BEGIN:VEVENT
DTSTART;TZID=America/New_York:20290321T190000
DTEND;TZID=America/New_York:20290321T200000
DTSTAMP:20260421T194013
CREATED:20241218T183511Z
LAST-MODIFIED:20250125T005235Z
UID:10000487-1868814000-1868817600@thecfc.org
SUMMARY:Online Bible Study
DESCRIPTION:join us as we delve into the Word offering a practical perspective! on FACEBOOK LIVE: https://www.facebook.com/christianfaithchurchmi
URL:https://thecfc.org/event/wednesday-evening-bible-study/2029-03-21/
ATTACH;FMTTYPE=image/jpeg:https://thecfc.org/wp-content/uploads/2024/12/cfc-Bible-study.jpg
END:VEVENT
BEGIN:VEVENT
DTSTART;TZID=America/New_York:20290328T190000
DTEND;TZID=America/New_York:20290328T200000
DTSTAMP:20260421T194013
CREATED:20241218T183511Z
LAST-MODIFIED:20250125T005235Z
UID:10000488-1869418800-1869422400@thecfc.org
SUMMARY:Online Bible Study
DESCRIPTION:join us as we delve into the Word offering a practical perspective! on FACEBOOK LIVE: https://www.facebook.com/christianfaithchurchmi
URL:https://thecfc.org/event/wednesday-evening-bible-study/2029-03-28/
ATTACH;FMTTYPE=image/jpeg:https://thecfc.org/wp-content/uploads/2024/12/cfc-Bible-study.jpg
END:VEVENT
BEGIN:VEVENT
DTSTART;TZID=America/New_York:20290404T190000
DTEND;TZID=America/New_York:20290404T200000
DTSTAMP:20260421T194013
CREATED:20241218T183511Z
LAST-MODIFIED:20250125T005235Z
UID:10000489-1870023600-1870027200@thecfc.org
SUMMARY:Online Bible Study
DESCRIPTION:join us as we delve into the Word offering a practical perspective! on FACEBOOK LIVE: https://www.facebook.com/christianfaithchurchmi
URL:https://thecfc.org/event/wednesday-evening-bible-study/2029-04-04/
ATTACH;FMTTYPE=image/jpeg:https://thecfc.org/wp-content/uploads/2024/12/cfc-Bible-study.jpg
END:VEVENT
BEGIN:VEVENT
DTSTART;TZID=America/New_York:20290411T190000
DTEND;TZID=America/New_York:20290411T200000
DTSTAMP:20260421T194013
CREATED:20241218T183511Z
LAST-MODIFIED:20250125T005235Z
UID:10000490-1870628400-1870632000@thecfc.org
SUMMARY:Online Bible Study
DESCRIPTION:join us as we delve into the Word offering a practical perspective! on FACEBOOK LIVE: https://www.facebook.com/christianfaithchurchmi
URL:https://thecfc.org/event/wednesday-evening-bible-study/2029-04-11/
ATTACH;FMTTYPE=image/jpeg:https://thecfc.org/wp-content/uploads/2024/12/cfc-Bible-study.jpg
END:VEVENT
BEGIN:VEVENT
DTSTART;TZID=America/New_York:20290418T190000
DTEND;TZID=America/New_York:20290418T200000
DTSTAMP:20260421T194013
CREATED:20241218T183511Z
LAST-MODIFIED:20250125T005235Z
UID:10000491-1871233200-1871236800@thecfc.org
SUMMARY:Online Bible Study
DESCRIPTION:join us as we delve into the Word offering a practical perspective! on FACEBOOK LIVE: https://www.facebook.com/christianfaithchurchmi
URL:https://thecfc.org/event/wednesday-evening-bible-study/2029-04-18/
ATTACH;FMTTYPE=image/jpeg:https://thecfc.org/wp-content/uploads/2024/12/cfc-Bible-study.jpg
END:VEVENT
BEGIN:VEVENT
DTSTART;TZID=America/New_York:20290425T190000
DTEND;TZID=America/New_York:20290425T200000
DTSTAMP:20260421T194013
CREATED:20241218T183511Z
LAST-MODIFIED:20250125T005235Z
UID:10000492-1871838000-1871841600@thecfc.org
SUMMARY:Online Bible Study
DESCRIPTION:join us as we delve into the Word offering a practical perspective! on FACEBOOK LIVE: https://www.facebook.com/christianfaithchurchmi
URL:https://thecfc.org/event/wednesday-evening-bible-study/2029-04-25/
ATTACH;FMTTYPE=image/jpeg:https://thecfc.org/wp-content/uploads/2024/12/cfc-Bible-study.jpg
END:VEVENT
BEGIN:VEVENT
DTSTART;TZID=America/New_York:20290502T190000
DTEND;TZID=America/New_York:20290502T200000
DTSTAMP:20260421T194013
CREATED:20241218T183511Z
LAST-MODIFIED:20250125T005235Z
UID:10000493-1872442800-1872446400@thecfc.org
SUMMARY:Online Bible Study
DESCRIPTION:join us as we delve into the Word offering a practical perspective! on FACEBOOK LIVE: https://www.facebook.com/christianfaithchurchmi
URL:https://thecfc.org/event/wednesday-evening-bible-study/2029-05-02/
ATTACH;FMTTYPE=image/jpeg:https://thecfc.org/wp-content/uploads/2024/12/cfc-Bible-study.jpg
END:VEVENT
BEGIN:VEVENT
DTSTART;TZID=America/New_York:20290509T190000
DTEND;TZID=America/New_York:20290509T200000
DTSTAMP:20260421T194013
CREATED:20241218T183511Z
LAST-MODIFIED:20250125T005235Z
UID:10000494-1873047600-1873051200@thecfc.org
SUMMARY:Online Bible Study
DESCRIPTION:join us as we delve into the Word offering a practical perspective! on FACEBOOK LIVE: https://www.facebook.com/christianfaithchurchmi
URL:https://thecfc.org/event/wednesday-evening-bible-study/2029-05-09/
ATTACH;FMTTYPE=image/jpeg:https://thecfc.org/wp-content/uploads/2024/12/cfc-Bible-study.jpg
END:VEVENT
BEGIN:VEVENT
DTSTART;TZID=America/New_York:20290516T190000
DTEND;TZID=America/New_York:20290516T200000
DTSTAMP:20260421T194013
CREATED:20241218T183511Z
LAST-MODIFIED:20250125T005235Z
UID:10000495-1873652400-1873656000@thecfc.org
SUMMARY:Online Bible Study
DESCRIPTION:join us as we delve into the Word offering a practical perspective! on FACEBOOK LIVE: https://www.facebook.com/christianfaithchurchmi
URL:https://thecfc.org/event/wednesday-evening-bible-study/2029-05-16/
ATTACH;FMTTYPE=image/jpeg:https://thecfc.org/wp-content/uploads/2024/12/cfc-Bible-study.jpg
END:VEVENT
BEGIN:VEVENT
DTSTART;TZID=America/New_York:20290523T190000
DTEND;TZID=America/New_York:20290523T200000
DTSTAMP:20260421T194013
CREATED:20241218T183511Z
LAST-MODIFIED:20250125T005235Z
UID:10000496-1874257200-1874260800@thecfc.org
SUMMARY:Online Bible Study
DESCRIPTION:join us as we delve into the Word offering a practical perspective! on FACEBOOK LIVE: https://www.facebook.com/christianfaithchurchmi
URL:https://thecfc.org/event/wednesday-evening-bible-study/2029-05-23/
ATTACH;FMTTYPE=image/jpeg:https://thecfc.org/wp-content/uploads/2024/12/cfc-Bible-study.jpg
END:VEVENT
BEGIN:VEVENT
DTSTART;TZID=America/New_York:20290530T190000
DTEND;TZID=America/New_York:20290530T200000
DTSTAMP:20260421T194013
CREATED:20241218T183511Z
LAST-MODIFIED:20250125T005235Z
UID:10000497-1874862000-1874865600@thecfc.org
SUMMARY:Online Bible Study
DESCRIPTION:join us as we delve into the Word offering a practical perspective! on FACEBOOK LIVE: https://www.facebook.com/christianfaithchurchmi
URL:https://thecfc.org/event/wednesday-evening-bible-study/2029-05-30/
ATTACH;FMTTYPE=image/jpeg:https://thecfc.org/wp-content/uploads/2024/12/cfc-Bible-study.jpg
END:VEVENT
BEGIN:VEVENT
DTSTART;TZID=America/New_York:20290606T190000
DTEND;TZID=America/New_York:20290606T200000
DTSTAMP:20260421T194013
CREATED:20241218T183511Z
LAST-MODIFIED:20250125T005235Z
UID:10000498-1875466800-1875470400@thecfc.org
SUMMARY:Online Bible Study
DESCRIPTION:join us as we delve into the Word offering a practical perspective! on FACEBOOK LIVE: https://www.facebook.com/christianfaithchurchmi
URL:https://thecfc.org/event/wednesday-evening-bible-study/2029-06-06/
ATTACH;FMTTYPE=image/jpeg:https://thecfc.org/wp-content/uploads/2024/12/cfc-Bible-study.jpg
END:VEVENT
BEGIN:VEVENT
DTSTART;TZID=America/New_York:20290613T190000
DTEND;TZID=America/New_York:20290613T200000
DTSTAMP:20260421T194013
CREATED:20241218T183511Z
LAST-MODIFIED:20250125T005235Z
UID:10000499-1876071600-1876075200@thecfc.org
SUMMARY:Online Bible Study
DESCRIPTION:join us as we delve into the Word offering a practical perspective! on FACEBOOK LIVE: https://www.facebook.com/christianfaithchurchmi
URL:https://thecfc.org/event/wednesday-evening-bible-study/2029-06-13/
ATTACH;FMTTYPE=image/jpeg:https://thecfc.org/wp-content/uploads/2024/12/cfc-Bible-study.jpg
END:VEVENT
BEGIN:VEVENT
DTSTART;TZID=America/New_York:20290620T190000
DTEND;TZID=America/New_York:20290620T200000
DTSTAMP:20260421T194013
CREATED:20241218T183511Z
LAST-MODIFIED:20250125T005235Z
UID:10000500-1876676400-1876680000@thecfc.org
SUMMARY:Online Bible Study
DESCRIPTION:join us as we delve into the Word offering a practical perspective! on FACEBOOK LIVE: https://www.facebook.com/christianfaithchurchmi
URL:https://thecfc.org/event/wednesday-evening-bible-study/2029-06-20/
ATTACH;FMTTYPE=image/jpeg:https://thecfc.org/wp-content/uploads/2024/12/cfc-Bible-study.jpg
END:VEVENT
BEGIN:VEVENT
DTSTART;TZID=America/New_York:20290627T190000
DTEND;TZID=America/New_York:20290627T200000
DTSTAMP:20260421T194013
CREATED:20241218T183511Z
LAST-MODIFIED:20250125T005235Z
UID:10000501-1877281200-1877284800@thecfc.org
SUMMARY:Online Bible Study
DESCRIPTION:join us as we delve into the Word offering a practical perspective! on FACEBOOK LIVE: https://www.facebook.com/christianfaithchurchmi
URL:https://thecfc.org/event/wednesday-evening-bible-study/2029-06-27/
ATTACH;FMTTYPE=image/jpeg:https://thecfc.org/wp-content/uploads/2024/12/cfc-Bible-study.jpg
END:VEVENT
BEGIN:VEVENT
DTSTART;TZID=America/New_York:20290704T190000
DTEND;TZID=America/New_York:20290704T200000
DTSTAMP:20260421T194013
CREATED:20241218T183511Z
LAST-MODIFIED:20250125T005235Z
UID:10000502-1877886000-1877889600@thecfc.org
SUMMARY:Online Bible Study
DESCRIPTION:join us as we delve into the Word offering a practical perspective! on FACEBOOK LIVE: https://www.facebook.com/christianfaithchurchmi
URL:https://thecfc.org/event/wednesday-evening-bible-study/2029-07-04/
ATTACH;FMTTYPE=image/jpeg:https://thecfc.org/wp-content/uploads/2024/12/cfc-Bible-study.jpg
END:VEVENT
BEGIN:VEVENT
DTSTART;TZID=America/New_York:20290711T190000
DTEND;TZID=America/New_York:20290711T200000
DTSTAMP:20260421T194013
CREATED:20241218T183511Z
LAST-MODIFIED:20250125T005235Z
UID:10000503-1878490800-1878494400@thecfc.org
SUMMARY:Online Bible Study
DESCRIPTION:join us as we delve into the Word offering a practical perspective! on FACEBOOK LIVE: https://www.facebook.com/christianfaithchurchmi
URL:https://thecfc.org/event/wednesday-evening-bible-study/2029-07-11/
ATTACH;FMTTYPE=image/jpeg:https://thecfc.org/wp-content/uploads/2024/12/cfc-Bible-study.jpg
END:VEVENT
BEGIN:VEVENT
DTSTART;TZID=America/New_York:20290718T190000
DTEND;TZID=America/New_York:20290718T200000
DTSTAMP:20260421T194013
CREATED:20241218T183511Z
LAST-MODIFIED:20250125T005235Z
UID:10000504-1879095600-1879099200@thecfc.org
SUMMARY:Online Bible Study
DESCRIPTION:join us as we delve into the Word offering a practical perspective! on FACEBOOK LIVE: https://www.facebook.com/christianfaithchurchmi
URL:https://thecfc.org/event/wednesday-evening-bible-study/2029-07-18/
ATTACH;FMTTYPE=image/jpeg:https://thecfc.org/wp-content/uploads/2024/12/cfc-Bible-study.jpg
END:VEVENT
BEGIN:VEVENT
DTSTART;TZID=America/New_York:20290725T190000
DTEND;TZID=America/New_York:20290725T200000
DTSTAMP:20260421T194013
CREATED:20241218T183511Z
LAST-MODIFIED:20250125T005235Z
UID:10000505-1879700400-1879704000@thecfc.org
SUMMARY:Online Bible Study
DESCRIPTION:join us as we delve into the Word offering a practical perspective! on FACEBOOK LIVE: https://www.facebook.com/christianfaithchurchmi
URL:https://thecfc.org/event/wednesday-evening-bible-study/2029-07-25/
ATTACH;FMTTYPE=image/jpeg:https://thecfc.org/wp-content/uploads/2024/12/cfc-Bible-study.jpg
END:VEVENT
BEGIN:VEVENT
DTSTART;TZID=America/New_York:20290801T190000
DTEND;TZID=America/New_York:20290801T200000
DTSTAMP:20260421T194013
CREATED:20241218T183511Z
LAST-MODIFIED:20250125T005235Z
UID:10000506-1880305200-1880308800@thecfc.org
SUMMARY:Online Bible Study
DESCRIPTION:join us as we delve into the Word offering a practical perspective! on FACEBOOK LIVE: https://www.facebook.com/christianfaithchurchmi
URL:https://thecfc.org/event/wednesday-evening-bible-study/2029-08-01/
ATTACH;FMTTYPE=image/jpeg:https://thecfc.org/wp-content/uploads/2024/12/cfc-Bible-study.jpg
END:VEVENT
BEGIN:VEVENT
DTSTART;TZID=America/New_York:20290808T190000
DTEND;TZID=America/New_York:20290808T200000
DTSTAMP:20260421T194013
CREATED:20241218T183511Z
LAST-MODIFIED:20250125T005235Z
UID:10000507-1880910000-1880913600@thecfc.org
SUMMARY:Online Bible Study
DESCRIPTION:join us as we delve into the Word offering a practical perspective! on FACEBOOK LIVE: https://www.facebook.com/christianfaithchurchmi
URL:https://thecfc.org/event/wednesday-evening-bible-study/2029-08-08/
ATTACH;FMTTYPE=image/jpeg:https://thecfc.org/wp-content/uploads/2024/12/cfc-Bible-study.jpg
END:VEVENT
BEGIN:VEVENT
DTSTART;TZID=America/New_York:20290815T190000
DTEND;TZID=America/New_York:20290815T200000
DTSTAMP:20260421T194013
CREATED:20241218T183511Z
LAST-MODIFIED:20250125T005235Z
UID:10000508-1881514800-1881518400@thecfc.org
SUMMARY:Online Bible Study
DESCRIPTION:join us as we delve into the Word offering a practical perspective! on FACEBOOK LIVE: https://www.facebook.com/christianfaithchurchmi
URL:https://thecfc.org/event/wednesday-evening-bible-study/2029-08-15/
ATTACH;FMTTYPE=image/jpeg:https://thecfc.org/wp-content/uploads/2024/12/cfc-Bible-study.jpg
END:VEVENT
BEGIN:VEVENT
DTSTART;TZID=America/New_York:20290822T190000
DTEND;TZID=America/New_York:20290822T200000
DTSTAMP:20260421T194013
CREATED:20241218T183511Z
LAST-MODIFIED:20250125T005235Z
UID:10000509-1882119600-1882123200@thecfc.org
SUMMARY:Online Bible Study
DESCRIPTION:join us as we delve into the Word offering a practical perspective! on FACEBOOK LIVE: https://www.facebook.com/christianfaithchurchmi
URL:https://thecfc.org/event/wednesday-evening-bible-study/2029-08-22/
ATTACH;FMTTYPE=image/jpeg:https://thecfc.org/wp-content/uploads/2024/12/cfc-Bible-study.jpg
END:VEVENT
BEGIN:VEVENT
DTSTART;TZID=America/New_York:20290829T190000
DTEND;TZID=America/New_York:20290829T200000
DTSTAMP:20260421T194013
CREATED:20241218T183511Z
LAST-MODIFIED:20250125T005235Z
UID:10000510-1882724400-1882728000@thecfc.org
SUMMARY:Online Bible Study
DESCRIPTION:join us as we delve into the Word offering a practical perspective! on FACEBOOK LIVE: https://www.facebook.com/christianfaithchurchmi
URL:https://thecfc.org/event/wednesday-evening-bible-study/2029-08-29/
ATTACH;FMTTYPE=image/jpeg:https://thecfc.org/wp-content/uploads/2024/12/cfc-Bible-study.jpg
END:VEVENT
BEGIN:VEVENT
DTSTART;TZID=America/New_York:20290905T190000
DTEND;TZID=America/New_York:20290905T200000
DTSTAMP:20260421T194013
CREATED:20241218T183511Z
LAST-MODIFIED:20250125T005235Z
UID:10000511-1883329200-1883332800@thecfc.org
SUMMARY:Online Bible Study
DESCRIPTION:join us as we delve into the Word offering a practical perspective! on FACEBOOK LIVE: https://www.facebook.com/christianfaithchurchmi
URL:https://thecfc.org/event/wednesday-evening-bible-study/2029-09-05/
ATTACH;FMTTYPE=image/jpeg:https://thecfc.org/wp-content/uploads/2024/12/cfc-Bible-study.jpg
END:VEVENT
BEGIN:VEVENT
DTSTART;TZID=America/New_York:20290912T190000
DTEND;TZID=America/New_York:20290912T200000
DTSTAMP:20260421T194013
CREATED:20241218T183511Z
LAST-MODIFIED:20250125T005235Z
UID:10000512-1883934000-1883937600@thecfc.org
SUMMARY:Online Bible Study
DESCRIPTION:join us as we delve into the Word offering a practical perspective! on FACEBOOK LIVE: https://www.facebook.com/christianfaithchurchmi
URL:https://thecfc.org/event/wednesday-evening-bible-study/2029-09-12/
ATTACH;FMTTYPE=image/jpeg:https://thecfc.org/wp-content/uploads/2024/12/cfc-Bible-study.jpg
END:VEVENT
END:VCALENDAR