BEGIN:VCALENDAR
VERSION:2.0
PRODID:-//Christian Faith Church - ECPv6.11.2.1//NONSGML v1.0//EN
CALSCALE:GREGORIAN
METHOD:PUBLISH
X-ORIGINAL-URL:https://thecfc.org
X-WR-CALDESC:Events for Christian Faith Church
REFRESH-INTERVAL;VALUE=DURATION:PT1H
X-Robots-Tag:noindex
X-PUBLISHED-TTL:PT1H
BEGIN:VTIMEZONE
TZID:America/New_York
BEGIN:DAYLIGHT
TZOFFSETFROM:-0500
TZOFFSETTO:-0400
TZNAME:EDT
DTSTART:20280312T070000
END:DAYLIGHT
BEGIN:STANDARD
TZOFFSETFROM:-0400
TZOFFSETTO:-0500
TZNAME:EST
DTSTART:20281105T060000
END:STANDARD
END:VTIMEZONE
BEGIN:VEVENT
DTSTART;TZID=America/New_York:20280503T190000
DTEND;TZID=America/New_York:20280503T200000
DTSTAMP:20260421T173258
CREATED:20241218T183511Z
LAST-MODIFIED:20250125T005235Z
UID:10000441-1840993200-1840996800@thecfc.org
SUMMARY:Online Bible Study
DESCRIPTION:join us as we delve into the Word offering a practical perspective! on FACEBOOK LIVE: https://www.facebook.com/christianfaithchurchmi
URL:https://thecfc.org/event/wednesday-evening-bible-study/2028-05-03/
ATTACH;FMTTYPE=image/jpeg:https://thecfc.org/wp-content/uploads/2024/12/cfc-Bible-study.jpg
END:VEVENT
BEGIN:VEVENT
DTSTART;TZID=America/New_York:20280507T113000
DTEND;TZID=America/New_York:20280507T130000
DTSTAMP:20260421T173258
CREATED:20230901T015429Z
LAST-MODIFIED:20230904T231857Z
UID:10000245-1841311800-1841317200@thecfc.org
SUMMARY:Sunday Service
DESCRIPTION:
URL:https://thecfc.org/event/sunday-service/2028-05-07/
END:VEVENT
BEGIN:VEVENT
DTSTART;TZID=America/New_York:20280510T190000
DTEND;TZID=America/New_York:20280510T200000
DTSTAMP:20260421T173258
CREATED:20241218T183511Z
LAST-MODIFIED:20250125T005235Z
UID:10000442-1841598000-1841601600@thecfc.org
SUMMARY:Online Bible Study
DESCRIPTION:join us as we delve into the Word offering a practical perspective! on FACEBOOK LIVE: https://www.facebook.com/christianfaithchurchmi
URL:https://thecfc.org/event/wednesday-evening-bible-study/2028-05-10/
ATTACH;FMTTYPE=image/jpeg:https://thecfc.org/wp-content/uploads/2024/12/cfc-Bible-study.jpg
END:VEVENT
BEGIN:VEVENT
DTSTART;TZID=America/New_York:20280514T113000
DTEND;TZID=America/New_York:20280514T130000
DTSTAMP:20260421T173258
CREATED:20230901T015429Z
LAST-MODIFIED:20230904T231857Z
UID:10000246-1841916600-1841922000@thecfc.org
SUMMARY:Sunday Service
DESCRIPTION:
URL:https://thecfc.org/event/sunday-service/2028-05-14/
END:VEVENT
BEGIN:VEVENT
DTSTART;TZID=America/New_York:20280517T190000
DTEND;TZID=America/New_York:20280517T200000
DTSTAMP:20260421T173258
CREATED:20241218T183511Z
LAST-MODIFIED:20250125T005235Z
UID:10000443-1842202800-1842206400@thecfc.org
SUMMARY:Online Bible Study
DESCRIPTION:join us as we delve into the Word offering a practical perspective! on FACEBOOK LIVE: https://www.facebook.com/christianfaithchurchmi
URL:https://thecfc.org/event/wednesday-evening-bible-study/2028-05-17/
ATTACH;FMTTYPE=image/jpeg:https://thecfc.org/wp-content/uploads/2024/12/cfc-Bible-study.jpg
END:VEVENT
BEGIN:VEVENT
DTSTART;TZID=America/New_York:20280521T113000
DTEND;TZID=America/New_York:20280521T130000
DTSTAMP:20260421T173258
CREATED:20230901T015429Z
LAST-MODIFIED:20230904T231857Z
UID:10000247-1842521400-1842526800@thecfc.org
SUMMARY:Sunday Service
DESCRIPTION:
URL:https://thecfc.org/event/sunday-service/2028-05-21/
END:VEVENT
BEGIN:VEVENT
DTSTART;TZID=America/New_York:20280524T190000
DTEND;TZID=America/New_York:20280524T200000
DTSTAMP:20260421T173258
CREATED:20241218T183511Z
LAST-MODIFIED:20250125T005235Z
UID:10000444-1842807600-1842811200@thecfc.org
SUMMARY:Online Bible Study
DESCRIPTION:join us as we delve into the Word offering a practical perspective! on FACEBOOK LIVE: https://www.facebook.com/christianfaithchurchmi
URL:https://thecfc.org/event/wednesday-evening-bible-study/2028-05-24/
ATTACH;FMTTYPE=image/jpeg:https://thecfc.org/wp-content/uploads/2024/12/cfc-Bible-study.jpg
END:VEVENT
BEGIN:VEVENT
DTSTART;TZID=America/New_York:20280528T113000
DTEND;TZID=America/New_York:20280528T130000
DTSTAMP:20260421T173258
CREATED:20230901T015429Z
LAST-MODIFIED:20230904T231857Z
UID:10000248-1843126200-1843131600@thecfc.org
SUMMARY:Sunday Service
DESCRIPTION:
URL:https://thecfc.org/event/sunday-service/2028-05-28/
END:VEVENT
BEGIN:VEVENT
DTSTART;TZID=America/New_York:20280531T190000
DTEND;TZID=America/New_York:20280531T200000
DTSTAMP:20260421T173258
CREATED:20241218T183511Z
LAST-MODIFIED:20250125T005235Z
UID:10000445-1843412400-1843416000@thecfc.org
SUMMARY:Online Bible Study
DESCRIPTION:join us as we delve into the Word offering a practical perspective! on FACEBOOK LIVE: https://www.facebook.com/christianfaithchurchmi
URL:https://thecfc.org/event/wednesday-evening-bible-study/2028-05-31/
ATTACH;FMTTYPE=image/jpeg:https://thecfc.org/wp-content/uploads/2024/12/cfc-Bible-study.jpg
END:VEVENT
BEGIN:VEVENT
DTSTART;TZID=America/New_York:20280604T113000
DTEND;TZID=America/New_York:20280604T130000
DTSTAMP:20260421T173258
CREATED:20230901T015429Z
LAST-MODIFIED:20230904T231857Z
UID:10000249-1843731000-1843736400@thecfc.org
SUMMARY:Sunday Service
DESCRIPTION:
URL:https://thecfc.org/event/sunday-service/2028-06-04/
END:VEVENT
BEGIN:VEVENT
DTSTART;TZID=America/New_York:20280607T190000
DTEND;TZID=America/New_York:20280607T200000
DTSTAMP:20260421T173258
CREATED:20241218T183511Z
LAST-MODIFIED:20250125T005235Z
UID:10000446-1844017200-1844020800@thecfc.org
SUMMARY:Online Bible Study
DESCRIPTION:join us as we delve into the Word offering a practical perspective! on FACEBOOK LIVE: https://www.facebook.com/christianfaithchurchmi
URL:https://thecfc.org/event/wednesday-evening-bible-study/2028-06-07/
ATTACH;FMTTYPE=image/jpeg:https://thecfc.org/wp-content/uploads/2024/12/cfc-Bible-study.jpg
END:VEVENT
BEGIN:VEVENT
DTSTART;TZID=America/New_York:20280611T113000
DTEND;TZID=America/New_York:20280611T130000
DTSTAMP:20260421T173258
CREATED:20230901T015429Z
LAST-MODIFIED:20230904T231857Z
UID:10000250-1844335800-1844341200@thecfc.org
SUMMARY:Sunday Service
DESCRIPTION:
URL:https://thecfc.org/event/sunday-service/2028-06-11/
END:VEVENT
BEGIN:VEVENT
DTSTART;TZID=America/New_York:20280614T190000
DTEND;TZID=America/New_York:20280614T200000
DTSTAMP:20260421T173258
CREATED:20241218T183511Z
LAST-MODIFIED:20250125T005235Z
UID:10000447-1844622000-1844625600@thecfc.org
SUMMARY:Online Bible Study
DESCRIPTION:join us as we delve into the Word offering a practical perspective! on FACEBOOK LIVE: https://www.facebook.com/christianfaithchurchmi
URL:https://thecfc.org/event/wednesday-evening-bible-study/2028-06-14/
ATTACH;FMTTYPE=image/jpeg:https://thecfc.org/wp-content/uploads/2024/12/cfc-Bible-study.jpg
END:VEVENT
BEGIN:VEVENT
DTSTART;TZID=America/New_York:20280618T113000
DTEND;TZID=America/New_York:20280618T130000
DTSTAMP:20260421T173258
CREATED:20230901T015429Z
LAST-MODIFIED:20230904T231857Z
UID:10000251-1844940600-1844946000@thecfc.org
SUMMARY:Sunday Service
DESCRIPTION:
URL:https://thecfc.org/event/sunday-service/2028-06-18/
END:VEVENT
BEGIN:VEVENT
DTSTART;TZID=America/New_York:20280621T190000
DTEND;TZID=America/New_York:20280621T200000
DTSTAMP:20260421T173258
CREATED:20241218T183511Z
LAST-MODIFIED:20250125T005235Z
UID:10000448-1845226800-1845230400@thecfc.org
SUMMARY:Online Bible Study
DESCRIPTION:join us as we delve into the Word offering a practical perspective! on FACEBOOK LIVE: https://www.facebook.com/christianfaithchurchmi
URL:https://thecfc.org/event/wednesday-evening-bible-study/2028-06-21/
ATTACH;FMTTYPE=image/jpeg:https://thecfc.org/wp-content/uploads/2024/12/cfc-Bible-study.jpg
END:VEVENT
BEGIN:VEVENT
DTSTART;TZID=America/New_York:20280625T113000
DTEND;TZID=America/New_York:20280625T130000
DTSTAMP:20260421T173258
CREATED:20230901T015429Z
LAST-MODIFIED:20230904T231857Z
UID:10000252-1845545400-1845550800@thecfc.org
SUMMARY:Sunday Service
DESCRIPTION:
URL:https://thecfc.org/event/sunday-service/2028-06-25/
END:VEVENT
BEGIN:VEVENT
DTSTART;TZID=America/New_York:20280628T190000
DTEND;TZID=America/New_York:20280628T200000
DTSTAMP:20260421T173258
CREATED:20241218T183511Z
LAST-MODIFIED:20250125T005235Z
UID:10000449-1845831600-1845835200@thecfc.org
SUMMARY:Online Bible Study
DESCRIPTION:join us as we delve into the Word offering a practical perspective! on FACEBOOK LIVE: https://www.facebook.com/christianfaithchurchmi
URL:https://thecfc.org/event/wednesday-evening-bible-study/2028-06-28/
ATTACH;FMTTYPE=image/jpeg:https://thecfc.org/wp-content/uploads/2024/12/cfc-Bible-study.jpg
END:VEVENT
BEGIN:VEVENT
DTSTART;TZID=America/New_York:20280702T113000
DTEND;TZID=America/New_York:20280702T130000
DTSTAMP:20260421T173258
CREATED:20230901T015429Z
LAST-MODIFIED:20230904T231857Z
UID:10000253-1846150200-1846155600@thecfc.org
SUMMARY:Sunday Service
DESCRIPTION:
URL:https://thecfc.org/event/sunday-service/2028-07-02/
END:VEVENT
BEGIN:VEVENT
DTSTART;TZID=America/New_York:20280705T190000
DTEND;TZID=America/New_York:20280705T200000
DTSTAMP:20260421T173258
CREATED:20241218T183511Z
LAST-MODIFIED:20250125T005235Z
UID:10000450-1846436400-1846440000@thecfc.org
SUMMARY:Online Bible Study
DESCRIPTION:join us as we delve into the Word offering a practical perspective! on FACEBOOK LIVE: https://www.facebook.com/christianfaithchurchmi
URL:https://thecfc.org/event/wednesday-evening-bible-study/2028-07-05/
ATTACH;FMTTYPE=image/jpeg:https://thecfc.org/wp-content/uploads/2024/12/cfc-Bible-study.jpg
END:VEVENT
BEGIN:VEVENT
DTSTART;TZID=America/New_York:20280709T113000
DTEND;TZID=America/New_York:20280709T130000
DTSTAMP:20260421T173258
CREATED:20230901T015429Z
LAST-MODIFIED:20230904T231857Z
UID:10000254-1846755000-1846760400@thecfc.org
SUMMARY:Sunday Service
DESCRIPTION:
URL:https://thecfc.org/event/sunday-service/2028-07-09/
END:VEVENT
BEGIN:VEVENT
DTSTART;TZID=America/New_York:20280712T190000
DTEND;TZID=America/New_York:20280712T200000
DTSTAMP:20260421T173258
CREATED:20241218T183511Z
LAST-MODIFIED:20250125T005235Z
UID:10000451-1847041200-1847044800@thecfc.org
SUMMARY:Online Bible Study
DESCRIPTION:join us as we delve into the Word offering a practical perspective! on FACEBOOK LIVE: https://www.facebook.com/christianfaithchurchmi
URL:https://thecfc.org/event/wednesday-evening-bible-study/2028-07-12/
ATTACH;FMTTYPE=image/jpeg:https://thecfc.org/wp-content/uploads/2024/12/cfc-Bible-study.jpg
END:VEVENT
BEGIN:VEVENT
DTSTART;TZID=America/New_York:20280716T113000
DTEND;TZID=America/New_York:20280716T130000
DTSTAMP:20260421T173258
CREATED:20230901T015429Z
LAST-MODIFIED:20230904T231857Z
UID:10000255-1847359800-1847365200@thecfc.org
SUMMARY:Sunday Service
DESCRIPTION:
URL:https://thecfc.org/event/sunday-service/2028-07-16/
END:VEVENT
BEGIN:VEVENT
DTSTART;TZID=America/New_York:20280719T190000
DTEND;TZID=America/New_York:20280719T200000
DTSTAMP:20260421T173258
CREATED:20241218T183511Z
LAST-MODIFIED:20250125T005235Z
UID:10000452-1847646000-1847649600@thecfc.org
SUMMARY:Online Bible Study
DESCRIPTION:join us as we delve into the Word offering a practical perspective! on FACEBOOK LIVE: https://www.facebook.com/christianfaithchurchmi
URL:https://thecfc.org/event/wednesday-evening-bible-study/2028-07-19/
ATTACH;FMTTYPE=image/jpeg:https://thecfc.org/wp-content/uploads/2024/12/cfc-Bible-study.jpg
END:VEVENT
BEGIN:VEVENT
DTSTART;TZID=America/New_York:20280723T113000
DTEND;TZID=America/New_York:20280723T130000
DTSTAMP:20260421T173258
CREATED:20230901T015429Z
LAST-MODIFIED:20230904T231857Z
UID:10000256-1847964600-1847970000@thecfc.org
SUMMARY:Sunday Service
DESCRIPTION:
URL:https://thecfc.org/event/sunday-service/2028-07-23/
END:VEVENT
BEGIN:VEVENT
DTSTART;TZID=America/New_York:20280726T190000
DTEND;TZID=America/New_York:20280726T200000
DTSTAMP:20260421T173258
CREATED:20241218T183511Z
LAST-MODIFIED:20250125T005235Z
UID:10000453-1848250800-1848254400@thecfc.org
SUMMARY:Online Bible Study
DESCRIPTION:join us as we delve into the Word offering a practical perspective! on FACEBOOK LIVE: https://www.facebook.com/christianfaithchurchmi
URL:https://thecfc.org/event/wednesday-evening-bible-study/2028-07-26/
ATTACH;FMTTYPE=image/jpeg:https://thecfc.org/wp-content/uploads/2024/12/cfc-Bible-study.jpg
END:VEVENT
BEGIN:VEVENT
DTSTART;TZID=America/New_York:20280730T113000
DTEND;TZID=America/New_York:20280730T130000
DTSTAMP:20260421T173258
CREATED:20230901T015429Z
LAST-MODIFIED:20230904T231857Z
UID:10000257-1848569400-1848574800@thecfc.org
SUMMARY:Sunday Service
DESCRIPTION:
URL:https://thecfc.org/event/sunday-service/2028-07-30/
END:VEVENT
BEGIN:VEVENT
DTSTART;TZID=America/New_York:20280802T190000
DTEND;TZID=America/New_York:20280802T200000
DTSTAMP:20260421T173258
CREATED:20241218T183511Z
LAST-MODIFIED:20250125T005235Z
UID:10000454-1848855600-1848859200@thecfc.org
SUMMARY:Online Bible Study
DESCRIPTION:join us as we delve into the Word offering a practical perspective! on FACEBOOK LIVE: https://www.facebook.com/christianfaithchurchmi
URL:https://thecfc.org/event/wednesday-evening-bible-study/2028-08-02/
ATTACH;FMTTYPE=image/jpeg:https://thecfc.org/wp-content/uploads/2024/12/cfc-Bible-study.jpg
END:VEVENT
BEGIN:VEVENT
DTSTART;TZID=America/New_York:20280806T113000
DTEND;TZID=America/New_York:20280806T130000
DTSTAMP:20260421T173258
CREATED:20230901T015429Z
LAST-MODIFIED:20230904T231857Z
UID:10000258-1849174200-1849179600@thecfc.org
SUMMARY:Sunday Service
DESCRIPTION:
URL:https://thecfc.org/event/sunday-service/2028-08-06/
END:VEVENT
BEGIN:VEVENT
DTSTART;TZID=America/New_York:20280809T190000
DTEND;TZID=America/New_York:20280809T200000
DTSTAMP:20260421T173258
CREATED:20241218T183511Z
LAST-MODIFIED:20250125T005235Z
UID:10000455-1849460400-1849464000@thecfc.org
SUMMARY:Online Bible Study
DESCRIPTION:join us as we delve into the Word offering a practical perspective! on FACEBOOK LIVE: https://www.facebook.com/christianfaithchurchmi
URL:https://thecfc.org/event/wednesday-evening-bible-study/2028-08-09/
ATTACH;FMTTYPE=image/jpeg:https://thecfc.org/wp-content/uploads/2024/12/cfc-Bible-study.jpg
END:VEVENT
BEGIN:VEVENT
DTSTART;TZID=America/New_York:20280813T113000
DTEND;TZID=America/New_York:20280813T130000
DTSTAMP:20260421T173258
CREATED:20230901T015429Z
LAST-MODIFIED:20230904T231857Z
UID:10000259-1849779000-1849784400@thecfc.org
SUMMARY:Sunday Service
DESCRIPTION:
URL:https://thecfc.org/event/sunday-service/2028-08-13/
END:VEVENT
END:VCALENDAR