BEGIN:VCALENDAR
VERSION:2.0
PRODID:-//Christian Faith Church - ECPv6.11.2.1//NONSGML v1.0//EN
CALSCALE:GREGORIAN
METHOD:PUBLISH
X-WR-CALNAME:Christian Faith Church
X-ORIGINAL-URL:https://thecfc.org
X-WR-CALDESC:Events for Christian Faith Church
REFRESH-INTERVAL;VALUE=DURATION:PT1H
X-Robots-Tag:noindex
X-PUBLISHED-TTL:PT1H
BEGIN:VTIMEZONE
TZID:America/New_York
BEGIN:DAYLIGHT
TZOFFSETFROM:-0500
TZOFFSETTO:-0400
TZNAME:EDT
DTSTART:20290311T070000
END:DAYLIGHT
BEGIN:STANDARD
TZOFFSETFROM:-0400
TZOFFSETTO:-0500
TZNAME:EST
DTSTART:20291104T060000
END:STANDARD
BEGIN:DAYLIGHT
TZOFFSETFROM:-0500
TZOFFSETTO:-0400
TZNAME:EDT
DTSTART:20300310T070000
END:DAYLIGHT
BEGIN:STANDARD
TZOFFSETFROM:-0400
TZOFFSETTO:-0500
TZNAME:EST
DTSTART:20301103T060000
END:STANDARD
END:VTIMEZONE
BEGIN:VEVENT
DTSTART;TZID=America/New_York:20290815T190000
DTEND;TZID=America/New_York:20290815T200000
DTSTAMP:20260421T174157
CREATED:20241218T183511Z
LAST-MODIFIED:20250125T005235Z
UID:10000508-1881514800-1881518400@thecfc.org
SUMMARY:Online Bible Study
DESCRIPTION:join us as we delve into the Word offering a practical perspective! on FACEBOOK LIVE: https://www.facebook.com/christianfaithchurchmi
URL:https://thecfc.org/event/wednesday-evening-bible-study/2029-08-15/
ATTACH;FMTTYPE=image/jpeg:https://thecfc.org/wp-content/uploads/2024/12/cfc-Bible-study.jpg
END:VEVENT
BEGIN:VEVENT
DTSTART;TZID=America/New_York:20290822T190000
DTEND;TZID=America/New_York:20290822T200000
DTSTAMP:20260421T174157
CREATED:20241218T183511Z
LAST-MODIFIED:20250125T005235Z
UID:10000509-1882119600-1882123200@thecfc.org
SUMMARY:Online Bible Study
DESCRIPTION:join us as we delve into the Word offering a practical perspective! on FACEBOOK LIVE: https://www.facebook.com/christianfaithchurchmi
URL:https://thecfc.org/event/wednesday-evening-bible-study/2029-08-22/
ATTACH;FMTTYPE=image/jpeg:https://thecfc.org/wp-content/uploads/2024/12/cfc-Bible-study.jpg
END:VEVENT
BEGIN:VEVENT
DTSTART;TZID=America/New_York:20290829T190000
DTEND;TZID=America/New_York:20290829T200000
DTSTAMP:20260421T174157
CREATED:20241218T183511Z
LAST-MODIFIED:20250125T005235Z
UID:10000510-1882724400-1882728000@thecfc.org
SUMMARY:Online Bible Study
DESCRIPTION:join us as we delve into the Word offering a practical perspective! on FACEBOOK LIVE: https://www.facebook.com/christianfaithchurchmi
URL:https://thecfc.org/event/wednesday-evening-bible-study/2029-08-29/
ATTACH;FMTTYPE=image/jpeg:https://thecfc.org/wp-content/uploads/2024/12/cfc-Bible-study.jpg
END:VEVENT
BEGIN:VEVENT
DTSTART;TZID=America/New_York:20290905T190000
DTEND;TZID=America/New_York:20290905T200000
DTSTAMP:20260421T174157
CREATED:20241218T183511Z
LAST-MODIFIED:20250125T005235Z
UID:10000511-1883329200-1883332800@thecfc.org
SUMMARY:Online Bible Study
DESCRIPTION:join us as we delve into the Word offering a practical perspective! on FACEBOOK LIVE: https://www.facebook.com/christianfaithchurchmi
URL:https://thecfc.org/event/wednesday-evening-bible-study/2029-09-05/
ATTACH;FMTTYPE=image/jpeg:https://thecfc.org/wp-content/uploads/2024/12/cfc-Bible-study.jpg
END:VEVENT
BEGIN:VEVENT
DTSTART;TZID=America/New_York:20290912T190000
DTEND;TZID=America/New_York:20290912T200000
DTSTAMP:20260421T174157
CREATED:20241218T183511Z
LAST-MODIFIED:20250125T005235Z
UID:10000512-1883934000-1883937600@thecfc.org
SUMMARY:Online Bible Study
DESCRIPTION:join us as we delve into the Word offering a practical perspective! on FACEBOOK LIVE: https://www.facebook.com/christianfaithchurchmi
URL:https://thecfc.org/event/wednesday-evening-bible-study/2029-09-12/
ATTACH;FMTTYPE=image/jpeg:https://thecfc.org/wp-content/uploads/2024/12/cfc-Bible-study.jpg
END:VEVENT
BEGIN:VEVENT
DTSTART;TZID=America/New_York:20290919T190000
DTEND;TZID=America/New_York:20290919T200000
DTSTAMP:20260421T174157
CREATED:20241218T183511Z
LAST-MODIFIED:20250125T005235Z
UID:10000513-1884538800-1884542400@thecfc.org
SUMMARY:Online Bible Study
DESCRIPTION:join us as we delve into the Word offering a practical perspective! on FACEBOOK LIVE: https://www.facebook.com/christianfaithchurchmi
URL:https://thecfc.org/event/wednesday-evening-bible-study/2029-09-19/
ATTACH;FMTTYPE=image/jpeg:https://thecfc.org/wp-content/uploads/2024/12/cfc-Bible-study.jpg
END:VEVENT
BEGIN:VEVENT
DTSTART;TZID=America/New_York:20290926T190000
DTEND;TZID=America/New_York:20290926T200000
DTSTAMP:20260421T174157
CREATED:20241218T183511Z
LAST-MODIFIED:20250125T005235Z
UID:10000514-1885143600-1885147200@thecfc.org
SUMMARY:Online Bible Study
DESCRIPTION:join us as we delve into the Word offering a practical perspective! on FACEBOOK LIVE: https://www.facebook.com/christianfaithchurchmi
URL:https://thecfc.org/event/wednesday-evening-bible-study/2029-09-26/
ATTACH;FMTTYPE=image/jpeg:https://thecfc.org/wp-content/uploads/2024/12/cfc-Bible-study.jpg
END:VEVENT
BEGIN:VEVENT
DTSTART;TZID=America/New_York:20291003T190000
DTEND;TZID=America/New_York:20291003T200000
DTSTAMP:20260421T174157
CREATED:20241218T183511Z
LAST-MODIFIED:20250125T005235Z
UID:10000515-1885748400-1885752000@thecfc.org
SUMMARY:Online Bible Study
DESCRIPTION:join us as we delve into the Word offering a practical perspective! on FACEBOOK LIVE: https://www.facebook.com/christianfaithchurchmi
URL:https://thecfc.org/event/wednesday-evening-bible-study/2029-10-03/
ATTACH;FMTTYPE=image/jpeg:https://thecfc.org/wp-content/uploads/2024/12/cfc-Bible-study.jpg
END:VEVENT
BEGIN:VEVENT
DTSTART;TZID=America/New_York:20291010T190000
DTEND;TZID=America/New_York:20291010T200000
DTSTAMP:20260421T174157
CREATED:20241218T183511Z
LAST-MODIFIED:20250125T005235Z
UID:10000516-1886353200-1886356800@thecfc.org
SUMMARY:Online Bible Study
DESCRIPTION:join us as we delve into the Word offering a practical perspective! on FACEBOOK LIVE: https://www.facebook.com/christianfaithchurchmi
URL:https://thecfc.org/event/wednesday-evening-bible-study/2029-10-10/
ATTACH;FMTTYPE=image/jpeg:https://thecfc.org/wp-content/uploads/2024/12/cfc-Bible-study.jpg
END:VEVENT
BEGIN:VEVENT
DTSTART;TZID=America/New_York:20291017T190000
DTEND;TZID=America/New_York:20291017T200000
DTSTAMP:20260421T174157
CREATED:20241218T183511Z
LAST-MODIFIED:20250125T005235Z
UID:10000517-1886958000-1886961600@thecfc.org
SUMMARY:Online Bible Study
DESCRIPTION:join us as we delve into the Word offering a practical perspective! on FACEBOOK LIVE: https://www.facebook.com/christianfaithchurchmi
URL:https://thecfc.org/event/wednesday-evening-bible-study/2029-10-17/
ATTACH;FMTTYPE=image/jpeg:https://thecfc.org/wp-content/uploads/2024/12/cfc-Bible-study.jpg
END:VEVENT
BEGIN:VEVENT
DTSTART;TZID=America/New_York:20291024T190000
DTEND;TZID=America/New_York:20291024T200000
DTSTAMP:20260421T174157
CREATED:20241218T183511Z
LAST-MODIFIED:20250125T005235Z
UID:10000518-1887562800-1887566400@thecfc.org
SUMMARY:Online Bible Study
DESCRIPTION:join us as we delve into the Word offering a practical perspective! on FACEBOOK LIVE: https://www.facebook.com/christianfaithchurchmi
URL:https://thecfc.org/event/wednesday-evening-bible-study/2029-10-24/
ATTACH;FMTTYPE=image/jpeg:https://thecfc.org/wp-content/uploads/2024/12/cfc-Bible-study.jpg
END:VEVENT
BEGIN:VEVENT
DTSTART;TZID=America/New_York:20291031T190000
DTEND;TZID=America/New_York:20291031T200000
DTSTAMP:20260421T174157
CREATED:20241218T183511Z
LAST-MODIFIED:20250125T005235Z
UID:10000519-1888167600-1888171200@thecfc.org
SUMMARY:Online Bible Study
DESCRIPTION:join us as we delve into the Word offering a practical perspective! on FACEBOOK LIVE: https://www.facebook.com/christianfaithchurchmi
URL:https://thecfc.org/event/wednesday-evening-bible-study/2029-10-31/
ATTACH;FMTTYPE=image/jpeg:https://thecfc.org/wp-content/uploads/2024/12/cfc-Bible-study.jpg
END:VEVENT
BEGIN:VEVENT
DTSTART;TZID=America/New_York:20291107T190000
DTEND;TZID=America/New_York:20291107T200000
DTSTAMP:20260421T174157
CREATED:20241218T183511Z
LAST-MODIFIED:20250125T005235Z
UID:10000520-1888772400-1888776000@thecfc.org
SUMMARY:Online Bible Study
DESCRIPTION:join us as we delve into the Word offering a practical perspective! on FACEBOOK LIVE: https://www.facebook.com/christianfaithchurchmi
URL:https://thecfc.org/event/wednesday-evening-bible-study/2029-11-07/
ATTACH;FMTTYPE=image/jpeg:https://thecfc.org/wp-content/uploads/2024/12/cfc-Bible-study.jpg
END:VEVENT
BEGIN:VEVENT
DTSTART;TZID=America/New_York:20291114T190000
DTEND;TZID=America/New_York:20291114T200000
DTSTAMP:20260421T174157
CREATED:20241218T183511Z
LAST-MODIFIED:20250125T005235Z
UID:10000521-1889377200-1889380800@thecfc.org
SUMMARY:Online Bible Study
DESCRIPTION:join us as we delve into the Word offering a practical perspective! on FACEBOOK LIVE: https://www.facebook.com/christianfaithchurchmi
URL:https://thecfc.org/event/wednesday-evening-bible-study/2029-11-14/
ATTACH;FMTTYPE=image/jpeg:https://thecfc.org/wp-content/uploads/2024/12/cfc-Bible-study.jpg
END:VEVENT
BEGIN:VEVENT
DTSTART;TZID=America/New_York:20291121T190000
DTEND;TZID=America/New_York:20291121T200000
DTSTAMP:20260421T174157
CREATED:20241218T183511Z
LAST-MODIFIED:20250125T005235Z
UID:10000522-1889982000-1889985600@thecfc.org
SUMMARY:Online Bible Study
DESCRIPTION:join us as we delve into the Word offering a practical perspective! on FACEBOOK LIVE: https://www.facebook.com/christianfaithchurchmi
URL:https://thecfc.org/event/wednesday-evening-bible-study/2029-11-21/
ATTACH;FMTTYPE=image/jpeg:https://thecfc.org/wp-content/uploads/2024/12/cfc-Bible-study.jpg
END:VEVENT
BEGIN:VEVENT
DTSTART;TZID=America/New_York:20291128T190000
DTEND;TZID=America/New_York:20291128T200000
DTSTAMP:20260421T174157
CREATED:20241218T183511Z
LAST-MODIFIED:20250125T005235Z
UID:10000523-1890586800-1890590400@thecfc.org
SUMMARY:Online Bible Study
DESCRIPTION:join us as we delve into the Word offering a practical perspective! on FACEBOOK LIVE: https://www.facebook.com/christianfaithchurchmi
URL:https://thecfc.org/event/wednesday-evening-bible-study/2029-11-28/
ATTACH;FMTTYPE=image/jpeg:https://thecfc.org/wp-content/uploads/2024/12/cfc-Bible-study.jpg
END:VEVENT
BEGIN:VEVENT
DTSTART;TZID=America/New_York:20291205T190000
DTEND;TZID=America/New_York:20291205T200000
DTSTAMP:20260421T174157
CREATED:20241218T183511Z
LAST-MODIFIED:20250125T005235Z
UID:10000524-1891191600-1891195200@thecfc.org
SUMMARY:Online Bible Study
DESCRIPTION:join us as we delve into the Word offering a practical perspective! on FACEBOOK LIVE: https://www.facebook.com/christianfaithchurchmi
URL:https://thecfc.org/event/wednesday-evening-bible-study/2029-12-05/
ATTACH;FMTTYPE=image/jpeg:https://thecfc.org/wp-content/uploads/2024/12/cfc-Bible-study.jpg
END:VEVENT
BEGIN:VEVENT
DTSTART;TZID=America/New_York:20291212T190000
DTEND;TZID=America/New_York:20291212T200000
DTSTAMP:20260421T174157
CREATED:20241218T183511Z
LAST-MODIFIED:20250125T005235Z
UID:10000525-1891796400-1891800000@thecfc.org
SUMMARY:Online Bible Study
DESCRIPTION:join us as we delve into the Word offering a practical perspective! on FACEBOOK LIVE: https://www.facebook.com/christianfaithchurchmi
URL:https://thecfc.org/event/wednesday-evening-bible-study/2029-12-12/
ATTACH;FMTTYPE=image/jpeg:https://thecfc.org/wp-content/uploads/2024/12/cfc-Bible-study.jpg
END:VEVENT
BEGIN:VEVENT
DTSTART;TZID=America/New_York:20291219T190000
DTEND;TZID=America/New_York:20291219T200000
DTSTAMP:20260421T174157
CREATED:20241218T183511Z
LAST-MODIFIED:20250125T005235Z
UID:10000526-1892401200-1892404800@thecfc.org
SUMMARY:Online Bible Study
DESCRIPTION:join us as we delve into the Word offering a practical perspective! on FACEBOOK LIVE: https://www.facebook.com/christianfaithchurchmi
URL:https://thecfc.org/event/wednesday-evening-bible-study/2029-12-19/
ATTACH;FMTTYPE=image/jpeg:https://thecfc.org/wp-content/uploads/2024/12/cfc-Bible-study.jpg
END:VEVENT
BEGIN:VEVENT
DTSTART;TZID=America/New_York:20291226T190000
DTEND;TZID=America/New_York:20291226T200000
DTSTAMP:20260421T174157
CREATED:20241218T183511Z
LAST-MODIFIED:20250125T005235Z
UID:10000527-1893006000-1893009600@thecfc.org
SUMMARY:Online Bible Study
DESCRIPTION:join us as we delve into the Word offering a practical perspective! on FACEBOOK LIVE: https://www.facebook.com/christianfaithchurchmi
URL:https://thecfc.org/event/wednesday-evening-bible-study/2029-12-26/
ATTACH;FMTTYPE=image/jpeg:https://thecfc.org/wp-content/uploads/2024/12/cfc-Bible-study.jpg
END:VEVENT
BEGIN:VEVENT
DTSTART;TZID=America/New_York:20300102T190000
DTEND;TZID=America/New_York:20300102T200000
DTSTAMP:20260421T174157
CREATED:20241218T183511Z
LAST-MODIFIED:20250125T005235Z
UID:10000528-1893610800-1893614400@thecfc.org
SUMMARY:Online Bible Study
DESCRIPTION:join us as we delve into the Word offering a practical perspective! on FACEBOOK LIVE: https://www.facebook.com/christianfaithchurchmi
URL:https://thecfc.org/event/wednesday-evening-bible-study/2030-01-02/
ATTACH;FMTTYPE=image/jpeg:https://thecfc.org/wp-content/uploads/2024/12/cfc-Bible-study.jpg
END:VEVENT
BEGIN:VEVENT
DTSTART;TZID=America/New_York:20300109T190000
DTEND;TZID=America/New_York:20300109T200000
DTSTAMP:20260421T174157
CREATED:20241218T183511Z
LAST-MODIFIED:20250125T005235Z
UID:10000529-1894215600-1894219200@thecfc.org
SUMMARY:Online Bible Study
DESCRIPTION:join us as we delve into the Word offering a practical perspective! on FACEBOOK LIVE: https://www.facebook.com/christianfaithchurchmi
URL:https://thecfc.org/event/wednesday-evening-bible-study/2030-01-09/
ATTACH;FMTTYPE=image/jpeg:https://thecfc.org/wp-content/uploads/2024/12/cfc-Bible-study.jpg
END:VEVENT
BEGIN:VEVENT
DTSTART;TZID=America/New_York:20300116T190000
DTEND;TZID=America/New_York:20300116T200000
DTSTAMP:20260421T174157
CREATED:20241218T183511Z
LAST-MODIFIED:20250125T005235Z
UID:10000530-1894820400-1894824000@thecfc.org
SUMMARY:Online Bible Study
DESCRIPTION:join us as we delve into the Word offering a practical perspective! on FACEBOOK LIVE: https://www.facebook.com/christianfaithchurchmi
URL:https://thecfc.org/event/wednesday-evening-bible-study/2030-01-16/
ATTACH;FMTTYPE=image/jpeg:https://thecfc.org/wp-content/uploads/2024/12/cfc-Bible-study.jpg
END:VEVENT
BEGIN:VEVENT
DTSTART;TZID=America/New_York:20300123T190000
DTEND;TZID=America/New_York:20300123T200000
DTSTAMP:20260421T174157
CREATED:20241218T183511Z
LAST-MODIFIED:20250125T005235Z
UID:10000531-1895425200-1895428800@thecfc.org
SUMMARY:Online Bible Study
DESCRIPTION:join us as we delve into the Word offering a practical perspective! on FACEBOOK LIVE: https://www.facebook.com/christianfaithchurchmi
URL:https://thecfc.org/event/wednesday-evening-bible-study/2030-01-23/
ATTACH;FMTTYPE=image/jpeg:https://thecfc.org/wp-content/uploads/2024/12/cfc-Bible-study.jpg
END:VEVENT
END:VCALENDAR