BEGIN:VCALENDAR
VERSION:2.0
PRODID:-//Christian Faith Church - ECPv6.11.2.1//NONSGML v1.0//EN
CALSCALE:GREGORIAN
METHOD:PUBLISH
X-WR-CALNAME:Christian Faith Church
X-ORIGINAL-URL:https://thecfc.org
X-WR-CALDESC:Events for Christian Faith Church
REFRESH-INTERVAL;VALUE=DURATION:PT1H
X-Robots-Tag:noindex
X-PUBLISHED-TTL:PT1H
BEGIN:VTIMEZONE
TZID:America/New_York
BEGIN:DAYLIGHT
TZOFFSETFROM:-0500
TZOFFSETTO:-0400
TZNAME:EDT
DTSTART:20280312T070000
END:DAYLIGHT
BEGIN:STANDARD
TZOFFSETFROM:-0400
TZOFFSETTO:-0500
TZNAME:EST
DTSTART:20281105T060000
END:STANDARD
BEGIN:DAYLIGHT
TZOFFSETFROM:-0500
TZOFFSETTO:-0400
TZNAME:EDT
DTSTART:20290311T070000
END:DAYLIGHT
BEGIN:STANDARD
TZOFFSETFROM:-0400
TZOFFSETTO:-0500
TZNAME:EST
DTSTART:20291104T060000
END:STANDARD
END:VTIMEZONE
BEGIN:VEVENT
DTSTART;TZID=America/New_York:20280830T190000
DTEND;TZID=America/New_York:20280830T200000
DTSTAMP:20260421T171700
CREATED:20241218T183511Z
LAST-MODIFIED:20250125T005235Z
UID:10000458-1851274800-1851278400@thecfc.org
SUMMARY:Online Bible Study
DESCRIPTION:join us as we delve into the Word offering a practical perspective! on FACEBOOK LIVE: https://www.facebook.com/christianfaithchurchmi
URL:https://thecfc.org/event/wednesday-evening-bible-study/2028-08-30/
ATTACH;FMTTYPE=image/jpeg:https://thecfc.org/wp-content/uploads/2024/12/cfc-Bible-study.jpg
END:VEVENT
BEGIN:VEVENT
DTSTART;TZID=America/New_York:20280903T113000
DTEND;TZID=America/New_York:20280903T130000
DTSTAMP:20260421T171700
CREATED:20230901T015429Z
LAST-MODIFIED:20230904T231857Z
UID:10000262-1851593400-1851598800@thecfc.org
SUMMARY:Sunday Service
DESCRIPTION:
URL:https://thecfc.org/event/sunday-service/2028-09-03/
END:VEVENT
BEGIN:VEVENT
DTSTART;TZID=America/New_York:20280906T190000
DTEND;TZID=America/New_York:20280906T200000
DTSTAMP:20260421T171700
CREATED:20241218T183511Z
LAST-MODIFIED:20250125T005235Z
UID:10000459-1851879600-1851883200@thecfc.org
SUMMARY:Online Bible Study
DESCRIPTION:join us as we delve into the Word offering a practical perspective! on FACEBOOK LIVE: https://www.facebook.com/christianfaithchurchmi
URL:https://thecfc.org/event/wednesday-evening-bible-study/2028-09-06/
ATTACH;FMTTYPE=image/jpeg:https://thecfc.org/wp-content/uploads/2024/12/cfc-Bible-study.jpg
END:VEVENT
BEGIN:VEVENT
DTSTART;TZID=America/New_York:20280913T190000
DTEND;TZID=America/New_York:20280913T200000
DTSTAMP:20260421T171700
CREATED:20241218T183511Z
LAST-MODIFIED:20250125T005235Z
UID:10000460-1852484400-1852488000@thecfc.org
SUMMARY:Online Bible Study
DESCRIPTION:join us as we delve into the Word offering a practical perspective! on FACEBOOK LIVE: https://www.facebook.com/christianfaithchurchmi
URL:https://thecfc.org/event/wednesday-evening-bible-study/2028-09-13/
ATTACH;FMTTYPE=image/jpeg:https://thecfc.org/wp-content/uploads/2024/12/cfc-Bible-study.jpg
END:VEVENT
BEGIN:VEVENT
DTSTART;TZID=America/New_York:20280920T190000
DTEND;TZID=America/New_York:20280920T200000
DTSTAMP:20260421T171700
CREATED:20241218T183511Z
LAST-MODIFIED:20250125T005235Z
UID:10000461-1853089200-1853092800@thecfc.org
SUMMARY:Online Bible Study
DESCRIPTION:join us as we delve into the Word offering a practical perspective! on FACEBOOK LIVE: https://www.facebook.com/christianfaithchurchmi
URL:https://thecfc.org/event/wednesday-evening-bible-study/2028-09-20/
ATTACH;FMTTYPE=image/jpeg:https://thecfc.org/wp-content/uploads/2024/12/cfc-Bible-study.jpg
END:VEVENT
BEGIN:VEVENT
DTSTART;TZID=America/New_York:20280927T190000
DTEND;TZID=America/New_York:20280927T200000
DTSTAMP:20260421T171700
CREATED:20241218T183511Z
LAST-MODIFIED:20250125T005235Z
UID:10000462-1853694000-1853697600@thecfc.org
SUMMARY:Online Bible Study
DESCRIPTION:join us as we delve into the Word offering a practical perspective! on FACEBOOK LIVE: https://www.facebook.com/christianfaithchurchmi
URL:https://thecfc.org/event/wednesday-evening-bible-study/2028-09-27/
ATTACH;FMTTYPE=image/jpeg:https://thecfc.org/wp-content/uploads/2024/12/cfc-Bible-study.jpg
END:VEVENT
BEGIN:VEVENT
DTSTART;TZID=America/New_York:20281004T190000
DTEND;TZID=America/New_York:20281004T200000
DTSTAMP:20260421T171700
CREATED:20241218T183511Z
LAST-MODIFIED:20250125T005235Z
UID:10000463-1854298800-1854302400@thecfc.org
SUMMARY:Online Bible Study
DESCRIPTION:join us as we delve into the Word offering a practical perspective! on FACEBOOK LIVE: https://www.facebook.com/christianfaithchurchmi
URL:https://thecfc.org/event/wednesday-evening-bible-study/2028-10-04/
ATTACH;FMTTYPE=image/jpeg:https://thecfc.org/wp-content/uploads/2024/12/cfc-Bible-study.jpg
END:VEVENT
BEGIN:VEVENT
DTSTART;TZID=America/New_York:20281011T190000
DTEND;TZID=America/New_York:20281011T200000
DTSTAMP:20260421T171700
CREATED:20241218T183511Z
LAST-MODIFIED:20250125T005235Z
UID:10000464-1854903600-1854907200@thecfc.org
SUMMARY:Online Bible Study
DESCRIPTION:join us as we delve into the Word offering a practical perspective! on FACEBOOK LIVE: https://www.facebook.com/christianfaithchurchmi
URL:https://thecfc.org/event/wednesday-evening-bible-study/2028-10-11/
ATTACH;FMTTYPE=image/jpeg:https://thecfc.org/wp-content/uploads/2024/12/cfc-Bible-study.jpg
END:VEVENT
BEGIN:VEVENT
DTSTART;TZID=America/New_York:20281018T190000
DTEND;TZID=America/New_York:20281018T200000
DTSTAMP:20260421T171700
CREATED:20241218T183511Z
LAST-MODIFIED:20250125T005235Z
UID:10000465-1855508400-1855512000@thecfc.org
SUMMARY:Online Bible Study
DESCRIPTION:join us as we delve into the Word offering a practical perspective! on FACEBOOK LIVE: https://www.facebook.com/christianfaithchurchmi
URL:https://thecfc.org/event/wednesday-evening-bible-study/2028-10-18/
ATTACH;FMTTYPE=image/jpeg:https://thecfc.org/wp-content/uploads/2024/12/cfc-Bible-study.jpg
END:VEVENT
BEGIN:VEVENT
DTSTART;TZID=America/New_York:20281025T190000
DTEND;TZID=America/New_York:20281025T200000
DTSTAMP:20260421T171700
CREATED:20241218T183511Z
LAST-MODIFIED:20250125T005235Z
UID:10000466-1856113200-1856116800@thecfc.org
SUMMARY:Online Bible Study
DESCRIPTION:join us as we delve into the Word offering a practical perspective! on FACEBOOK LIVE: https://www.facebook.com/christianfaithchurchmi
URL:https://thecfc.org/event/wednesday-evening-bible-study/2028-10-25/
ATTACH;FMTTYPE=image/jpeg:https://thecfc.org/wp-content/uploads/2024/12/cfc-Bible-study.jpg
END:VEVENT
BEGIN:VEVENT
DTSTART;TZID=America/New_York:20281101T190000
DTEND;TZID=America/New_York:20281101T200000
DTSTAMP:20260421T171700
CREATED:20241218T183511Z
LAST-MODIFIED:20250125T005235Z
UID:10000467-1856718000-1856721600@thecfc.org
SUMMARY:Online Bible Study
DESCRIPTION:join us as we delve into the Word offering a practical perspective! on FACEBOOK LIVE: https://www.facebook.com/christianfaithchurchmi
URL:https://thecfc.org/event/wednesday-evening-bible-study/2028-11-01/
ATTACH;FMTTYPE=image/jpeg:https://thecfc.org/wp-content/uploads/2024/12/cfc-Bible-study.jpg
END:VEVENT
BEGIN:VEVENT
DTSTART;TZID=America/New_York:20281108T190000
DTEND;TZID=America/New_York:20281108T200000
DTSTAMP:20260421T171700
CREATED:20241218T183511Z
LAST-MODIFIED:20250125T005235Z
UID:10000468-1857322800-1857326400@thecfc.org
SUMMARY:Online Bible Study
DESCRIPTION:join us as we delve into the Word offering a practical perspective! on FACEBOOK LIVE: https://www.facebook.com/christianfaithchurchmi
URL:https://thecfc.org/event/wednesday-evening-bible-study/2028-11-08/
ATTACH;FMTTYPE=image/jpeg:https://thecfc.org/wp-content/uploads/2024/12/cfc-Bible-study.jpg
END:VEVENT
BEGIN:VEVENT
DTSTART;TZID=America/New_York:20281115T190000
DTEND;TZID=America/New_York:20281115T200000
DTSTAMP:20260421T171700
CREATED:20241218T183511Z
LAST-MODIFIED:20250125T005235Z
UID:10000469-1857927600-1857931200@thecfc.org
SUMMARY:Online Bible Study
DESCRIPTION:join us as we delve into the Word offering a practical perspective! on FACEBOOK LIVE: https://www.facebook.com/christianfaithchurchmi
URL:https://thecfc.org/event/wednesday-evening-bible-study/2028-11-15/
ATTACH;FMTTYPE=image/jpeg:https://thecfc.org/wp-content/uploads/2024/12/cfc-Bible-study.jpg
END:VEVENT
BEGIN:VEVENT
DTSTART;TZID=America/New_York:20281122T190000
DTEND;TZID=America/New_York:20281122T200000
DTSTAMP:20260421T171700
CREATED:20241218T183511Z
LAST-MODIFIED:20250125T005235Z
UID:10000470-1858532400-1858536000@thecfc.org
SUMMARY:Online Bible Study
DESCRIPTION:join us as we delve into the Word offering a practical perspective! on FACEBOOK LIVE: https://www.facebook.com/christianfaithchurchmi
URL:https://thecfc.org/event/wednesday-evening-bible-study/2028-11-22/
ATTACH;FMTTYPE=image/jpeg:https://thecfc.org/wp-content/uploads/2024/12/cfc-Bible-study.jpg
END:VEVENT
BEGIN:VEVENT
DTSTART;TZID=America/New_York:20281129T190000
DTEND;TZID=America/New_York:20281129T200000
DTSTAMP:20260421T171700
CREATED:20241218T183511Z
LAST-MODIFIED:20250125T005235Z
UID:10000471-1859137200-1859140800@thecfc.org
SUMMARY:Online Bible Study
DESCRIPTION:join us as we delve into the Word offering a practical perspective! on FACEBOOK LIVE: https://www.facebook.com/christianfaithchurchmi
URL:https://thecfc.org/event/wednesday-evening-bible-study/2028-11-29/
ATTACH;FMTTYPE=image/jpeg:https://thecfc.org/wp-content/uploads/2024/12/cfc-Bible-study.jpg
END:VEVENT
BEGIN:VEVENT
DTSTART;TZID=America/New_York:20281206T190000
DTEND;TZID=America/New_York:20281206T200000
DTSTAMP:20260421T171700
CREATED:20241218T183511Z
LAST-MODIFIED:20250125T005235Z
UID:10000472-1859742000-1859745600@thecfc.org
SUMMARY:Online Bible Study
DESCRIPTION:join us as we delve into the Word offering a practical perspective! on FACEBOOK LIVE: https://www.facebook.com/christianfaithchurchmi
URL:https://thecfc.org/event/wednesday-evening-bible-study/2028-12-06/
ATTACH;FMTTYPE=image/jpeg:https://thecfc.org/wp-content/uploads/2024/12/cfc-Bible-study.jpg
END:VEVENT
BEGIN:VEVENT
DTSTART;TZID=America/New_York:20281213T190000
DTEND;TZID=America/New_York:20281213T200000
DTSTAMP:20260421T171700
CREATED:20241218T183511Z
LAST-MODIFIED:20250125T005235Z
UID:10000473-1860346800-1860350400@thecfc.org
SUMMARY:Online Bible Study
DESCRIPTION:join us as we delve into the Word offering a practical perspective! on FACEBOOK LIVE: https://www.facebook.com/christianfaithchurchmi
URL:https://thecfc.org/event/wednesday-evening-bible-study/2028-12-13/
ATTACH;FMTTYPE=image/jpeg:https://thecfc.org/wp-content/uploads/2024/12/cfc-Bible-study.jpg
END:VEVENT
BEGIN:VEVENT
DTSTART;TZID=America/New_York:20281220T190000
DTEND;TZID=America/New_York:20281220T200000
DTSTAMP:20260421T171700
CREATED:20241218T183511Z
LAST-MODIFIED:20250125T005235Z
UID:10000474-1860951600-1860955200@thecfc.org
SUMMARY:Online Bible Study
DESCRIPTION:join us as we delve into the Word offering a practical perspective! on FACEBOOK LIVE: https://www.facebook.com/christianfaithchurchmi
URL:https://thecfc.org/event/wednesday-evening-bible-study/2028-12-20/
ATTACH;FMTTYPE=image/jpeg:https://thecfc.org/wp-content/uploads/2024/12/cfc-Bible-study.jpg
END:VEVENT
BEGIN:VEVENT
DTSTART;TZID=America/New_York:20281227T190000
DTEND;TZID=America/New_York:20281227T200000
DTSTAMP:20260421T171700
CREATED:20241218T183511Z
LAST-MODIFIED:20250125T005235Z
UID:10000475-1861556400-1861560000@thecfc.org
SUMMARY:Online Bible Study
DESCRIPTION:join us as we delve into the Word offering a practical perspective! on FACEBOOK LIVE: https://www.facebook.com/christianfaithchurchmi
URL:https://thecfc.org/event/wednesday-evening-bible-study/2028-12-27/
ATTACH;FMTTYPE=image/jpeg:https://thecfc.org/wp-content/uploads/2024/12/cfc-Bible-study.jpg
END:VEVENT
BEGIN:VEVENT
DTSTART;TZID=America/New_York:20290103T190000
DTEND;TZID=America/New_York:20290103T200000
DTSTAMP:20260421T171700
CREATED:20241218T183511Z
LAST-MODIFIED:20250125T005235Z
UID:10000476-1862161200-1862164800@thecfc.org
SUMMARY:Online Bible Study
DESCRIPTION:join us as we delve into the Word offering a practical perspective! on FACEBOOK LIVE: https://www.facebook.com/christianfaithchurchmi
URL:https://thecfc.org/event/wednesday-evening-bible-study/2029-01-03/
ATTACH;FMTTYPE=image/jpeg:https://thecfc.org/wp-content/uploads/2024/12/cfc-Bible-study.jpg
END:VEVENT
BEGIN:VEVENT
DTSTART;TZID=America/New_York:20290110T190000
DTEND;TZID=America/New_York:20290110T200000
DTSTAMP:20260421T171700
CREATED:20241218T183511Z
LAST-MODIFIED:20250125T005235Z
UID:10000477-1862766000-1862769600@thecfc.org
SUMMARY:Online Bible Study
DESCRIPTION:join us as we delve into the Word offering a practical perspective! on FACEBOOK LIVE: https://www.facebook.com/christianfaithchurchmi
URL:https://thecfc.org/event/wednesday-evening-bible-study/2029-01-10/
ATTACH;FMTTYPE=image/jpeg:https://thecfc.org/wp-content/uploads/2024/12/cfc-Bible-study.jpg
END:VEVENT
BEGIN:VEVENT
DTSTART;TZID=America/New_York:20290117T190000
DTEND;TZID=America/New_York:20290117T200000
DTSTAMP:20260421T171700
CREATED:20241218T183511Z
LAST-MODIFIED:20250125T005235Z
UID:10000478-1863370800-1863374400@thecfc.org
SUMMARY:Online Bible Study
DESCRIPTION:join us as we delve into the Word offering a practical perspective! on FACEBOOK LIVE: https://www.facebook.com/christianfaithchurchmi
URL:https://thecfc.org/event/wednesday-evening-bible-study/2029-01-17/
ATTACH;FMTTYPE=image/jpeg:https://thecfc.org/wp-content/uploads/2024/12/cfc-Bible-study.jpg
END:VEVENT
BEGIN:VEVENT
DTSTART;TZID=America/New_York:20290124T190000
DTEND;TZID=America/New_York:20290124T200000
DTSTAMP:20260421T171700
CREATED:20241218T183511Z
LAST-MODIFIED:20250125T005235Z
UID:10000479-1863975600-1863979200@thecfc.org
SUMMARY:Online Bible Study
DESCRIPTION:join us as we delve into the Word offering a practical perspective! on FACEBOOK LIVE: https://www.facebook.com/christianfaithchurchmi
URL:https://thecfc.org/event/wednesday-evening-bible-study/2029-01-24/
ATTACH;FMTTYPE=image/jpeg:https://thecfc.org/wp-content/uploads/2024/12/cfc-Bible-study.jpg
END:VEVENT
BEGIN:VEVENT
DTSTART;TZID=America/New_York:20290131T190000
DTEND;TZID=America/New_York:20290131T200000
DTSTAMP:20260421T171700
CREATED:20241218T183511Z
LAST-MODIFIED:20250125T005235Z
UID:10000480-1864580400-1864584000@thecfc.org
SUMMARY:Online Bible Study
DESCRIPTION:join us as we delve into the Word offering a practical perspective! on FACEBOOK LIVE: https://www.facebook.com/christianfaithchurchmi
URL:https://thecfc.org/event/wednesday-evening-bible-study/2029-01-31/
ATTACH;FMTTYPE=image/jpeg:https://thecfc.org/wp-content/uploads/2024/12/cfc-Bible-study.jpg
END:VEVENT
BEGIN:VEVENT
DTSTART;TZID=America/New_York:20290207T190000
DTEND;TZID=America/New_York:20290207T200000
DTSTAMP:20260421T171700
CREATED:20241218T183511Z
LAST-MODIFIED:20250125T005235Z
UID:10000481-1865185200-1865188800@thecfc.org
SUMMARY:Online Bible Study
DESCRIPTION:join us as we delve into the Word offering a practical perspective! on FACEBOOK LIVE: https://www.facebook.com/christianfaithchurchmi
URL:https://thecfc.org/event/wednesday-evening-bible-study/2029-02-07/
ATTACH;FMTTYPE=image/jpeg:https://thecfc.org/wp-content/uploads/2024/12/cfc-Bible-study.jpg
END:VEVENT
BEGIN:VEVENT
DTSTART;TZID=America/New_York:20290214T190000
DTEND;TZID=America/New_York:20290214T200000
DTSTAMP:20260421T171700
CREATED:20241218T183511Z
LAST-MODIFIED:20250125T005235Z
UID:10000482-1865790000-1865793600@thecfc.org
SUMMARY:Online Bible Study
DESCRIPTION:join us as we delve into the Word offering a practical perspective! on FACEBOOK LIVE: https://www.facebook.com/christianfaithchurchmi
URL:https://thecfc.org/event/wednesday-evening-bible-study/2029-02-14/
ATTACH;FMTTYPE=image/jpeg:https://thecfc.org/wp-content/uploads/2024/12/cfc-Bible-study.jpg
END:VEVENT
BEGIN:VEVENT
DTSTART;TZID=America/New_York:20290221T190000
DTEND;TZID=America/New_York:20290221T200000
DTSTAMP:20260421T171700
CREATED:20241218T183511Z
LAST-MODIFIED:20250125T005235Z
UID:10000483-1866394800-1866398400@thecfc.org
SUMMARY:Online Bible Study
DESCRIPTION:join us as we delve into the Word offering a practical perspective! on FACEBOOK LIVE: https://www.facebook.com/christianfaithchurchmi
URL:https://thecfc.org/event/wednesday-evening-bible-study/2029-02-21/
ATTACH;FMTTYPE=image/jpeg:https://thecfc.org/wp-content/uploads/2024/12/cfc-Bible-study.jpg
END:VEVENT
BEGIN:VEVENT
DTSTART;TZID=America/New_York:20290228T190000
DTEND;TZID=America/New_York:20290228T200000
DTSTAMP:20260421T171700
CREATED:20241218T183511Z
LAST-MODIFIED:20250125T005235Z
UID:10000484-1866999600-1867003200@thecfc.org
SUMMARY:Online Bible Study
DESCRIPTION:join us as we delve into the Word offering a practical perspective! on FACEBOOK LIVE: https://www.facebook.com/christianfaithchurchmi
URL:https://thecfc.org/event/wednesday-evening-bible-study/2029-02-28/
ATTACH;FMTTYPE=image/jpeg:https://thecfc.org/wp-content/uploads/2024/12/cfc-Bible-study.jpg
END:VEVENT
BEGIN:VEVENT
DTSTART;TZID=America/New_York:20290307T190000
DTEND;TZID=America/New_York:20290307T200000
DTSTAMP:20260421T171700
CREATED:20241218T183511Z
LAST-MODIFIED:20250125T005235Z
UID:10000485-1867604400-1867608000@thecfc.org
SUMMARY:Online Bible Study
DESCRIPTION:join us as we delve into the Word offering a practical perspective! on FACEBOOK LIVE: https://www.facebook.com/christianfaithchurchmi
URL:https://thecfc.org/event/wednesday-evening-bible-study/2029-03-07/
ATTACH;FMTTYPE=image/jpeg:https://thecfc.org/wp-content/uploads/2024/12/cfc-Bible-study.jpg
END:VEVENT
BEGIN:VEVENT
DTSTART;TZID=America/New_York:20290314T190000
DTEND;TZID=America/New_York:20290314T200000
DTSTAMP:20260421T171700
CREATED:20241218T183511Z
LAST-MODIFIED:20250125T005235Z
UID:10000486-1868209200-1868212800@thecfc.org
SUMMARY:Online Bible Study
DESCRIPTION:join us as we delve into the Word offering a practical perspective! on FACEBOOK LIVE: https://www.facebook.com/christianfaithchurchmi
URL:https://thecfc.org/event/wednesday-evening-bible-study/2029-03-14/
ATTACH;FMTTYPE=image/jpeg:https://thecfc.org/wp-content/uploads/2024/12/cfc-Bible-study.jpg
END:VEVENT
END:VCALENDAR